BEGIN:VCALENDAR
VERSION:2.0
PRODID:-//Τόπος Τεχνών Χώρα - ECPv6.15.20//NONSGML v1.0//EN
CALSCALE:GREGORIAN
METHOD:PUBLISH
X-ORIGINAL-URL:https://xwra.gr
X-WR-CALDESC:Events for Τόπος Τεχνών Χώρα
REFRESH-INTERVAL;VALUE=DURATION:PT1H
X-Robots-Tag:noindex
X-PUBLISHED-TTL:PT1H
BEGIN:VTIMEZONE
TZID:Europe/Moscow
BEGIN:STANDARD
TZOFFSETFROM:+0300
TZOFFSETTO:+0300
TZNAME:MSK
DTSTART:20180101T000000
END:STANDARD
END:VTIMEZONE
BEGIN:VEVENT
DTSTART;TZID=Europe/Moscow:20190208T213000
DTEND;TZID=Europe/Moscow:20190208T213000
DTSTAMP:20260420T180356
CREATED:20190124T122728Z
LAST-MODIFIED:20190131T162830Z
UID:6604-1549661400-1549661400@xwra.gr
SUMMARY:ΓΕΡΑΣΙΜΟΣ ΑΝΔΡΕΑΤΟΣ LIVE
DESCRIPTION:Ο Γεράσιμος Ανδρεάτος χρόνια τώρα\, δίνει το δικό του μουσικό στίγμα που το χαρακτηρίζει η συνέπεια και ο σεβασμός στο κοινό του. \nΜέσα από  σημαντικές συνεργασίες και επιλεγμένες εμφανίσεις \, ο αγαπημένος ερμηνευτής με την γνήσια λαϊκή φωνή υπηρετεί πιστά αυτό που αγαπά περισσότερο… το Λαϊκό Τραγούδι . \n  \nΟ Γεράσιμος Ανδρεάτος έχει χαρακτηριστεί ως μία από   τις σημαντικότερες φωνές της νεότερης γενιάς του Λαϊκού τραγουδιού \, με μία “γεμάτη”  μουσική διαδρομή και με τραγούδια που αγαπήθηκαν με τρόπο διαχρονικό. Μια γνήσια λαϊκή  φωνή που  ξεχωρίζει για τις εξαιρετικές του  ερμηνείες\, με μια σημαντική καριέρα και μια μεγάλη προσωπική δισκογραφία στο χώρο της έντεχνης λαϊκής μουσικής \nΣτις επιλεγμένες εμφανίσεις του ανά την Ελλάδα\, αφήνει το καλλιτεχνικό του αποτύπωμα και υπόσχεται σε αυτές τις μουσικές συναντήσεις με το κοινό του\, έχοντας σύμμαχο   τις πιο  γνωστές ερμηνευτικές του στιγμές \, να μας κάνει να ταξιδέψουμε  σε έρωτες \, φιλίες \, τόπους και συναισθήματα …… \nΟ Γεράσιμος Ανδρεάτος γνήσιος εκπρόσωπος της μεγάλης λαϊκής σχολής του λαϊκού μας τραγουδιού ξεχώρισε έως σήμερα για τις συνεργασίες του με σημαντικούς συνθέτες όπως ο Βαγγέλης Κορακάκης\, ο Δημήτρης Παπαδημητρίου\, ο Χρήστος Νικολόπουλος\, ο Άκης Πάνου\, ο Παντελής Θαλασσινός και άλλοι. \nΣημαντική στιγμή στην καριέρα του η εμφάνιση του στο Καλλιμάρμαρο με το έργο του Παναγή Μπαρμπατη “Ωδή στον Μίκη Θεοδωράκη”\, μία συνεργασία που συνεχίζεται μέχρι και τώρα. \n  \nΑυτόν τον χειμώνα συναντάμε τον Γεράσιμο Ανδρεάτο στη Μουσική Σκηνή  Petrogazi  \,  μαζί με τους Χρήστο Παπαδόπουλο\, Πάυλο Χαικάλη \, Τάνια Τρύπη \, Γρηγόρη Μπιθικώτση και Θάνο Κοντογιώργη μας μεταφέρουν με επιτυχία σε μια άλλη εποχή μέσα από τραγούδια που αγαπήσαμε και άφησαν το δικό τους μουσικό στίγμα μέσω της  μουσικό θεατρικής παράστασης  “Το Μπαρακι του Μαριου “ \n  \nΤο νέο του τραγούδι « Άσ’ το Να Πάει»  σε μουσική Χρήστου Παπαδόπουλου και στίχους Κωσταντίνου Στρατή μόλις κυκλοφόρησε  από το Ogdoo  music group \, σημειώνοντας ήδη μεγάλη επιτυχία και είναι ο προπομπός της νέας δισκογραφικής του δουλειάς με τίτλο “ΑΛΛΑΓΗ ΕΠΟΧΗΣ“. \nTo τραγούδι αυτό είναι μία ιδιαίτερη λαϊκή μπαλάντα που ο Γεράσιμος Ανδρεάτος απογειώνει με την ρωμαλέα και εκφραστική ερμηνεία του! \nΤριάντα χρόνια  τώρα\, ο αγαπημένος ερμηνευτής των μεγάλων επιτυχιών δεν σταματά να μας εκπλήσσει γιατί…. Όσο η Ελλάδα ονειρεύεται θα σιγοτραγουδά τραγούδια μαζί με την φωνή του Γεράσιμου! \n  \nΤιμές εισιτηρίων: \nΠροπώληση 12€\nΠόρτα 14€ \nΠροπώληση – Κρατήσεις τηλεφωνικά στο 2231051075 \n  \n  \nFor privacy reasons YouTube needs your permission to be loaded.I Accept\n 
URL:https://xwra.gr/event/%ce%b3%ce%b5%cf%81%ce%b1%cf%83%ce%b9%ce%bc%ce%bf%cf%83-%ce%b1%ce%bd%ce%b4%cf%81%ce%b5%ce%b1%cf%84%ce%bf%cf%83-live/
CATEGORIES:Music
ATTACH;FMTTYPE=image/jpeg:https://xwra.gr/wp-content/uploads/2019/01/gerasimos_andreatos_social.jpg
END:VEVENT
END:VCALENDAR