BEGIN:VCALENDAR
VERSION:2.0
PRODID:-//Τόπος Τεχνών Χώρα - ECPv6.15.20//NONSGML v1.0//EN
CALSCALE:GREGORIAN
METHOD:PUBLISH
X-ORIGINAL-URL:https://xwra.gr
X-WR-CALDESC:Events for Τόπος Τεχνών Χώρα
REFRESH-INTERVAL;VALUE=DURATION:PT1H
X-Robots-Tag:noindex
X-PUBLISHED-TTL:PT1H
BEGIN:VTIMEZONE
TZID:Europe/Athens
BEGIN:DAYLIGHT
TZOFFSETFROM:+0200
TZOFFSETTO:+0300
TZNAME:EEST
DTSTART:20250330T010000
END:DAYLIGHT
BEGIN:STANDARD
TZOFFSETFROM:+0300
TZOFFSETTO:+0200
TZNAME:EET
DTSTART:20251026T010000
END:STANDARD
BEGIN:DAYLIGHT
TZOFFSETFROM:+0200
TZOFFSETTO:+0300
TZNAME:EEST
DTSTART:20260329T010000
END:DAYLIGHT
BEGIN:STANDARD
TZOFFSETFROM:+0300
TZOFFSETTO:+0200
TZNAME:EET
DTSTART:20261025T010000
END:STANDARD
BEGIN:DAYLIGHT
TZOFFSETFROM:+0200
TZOFFSETTO:+0300
TZNAME:EEST
DTSTART:20270328T010000
END:DAYLIGHT
BEGIN:STANDARD
TZOFFSETFROM:+0300
TZOFFSETTO:+0200
TZNAME:EET
DTSTART:20271031T010000
END:STANDARD
END:VTIMEZONE
BEGIN:VEVENT
DTSTART;TZID=Europe/Athens:20260306T213000
DTEND;TZID=Europe/Athens:20260306T213000
DTSTAMP:20260419T180807
CREATED:20260221T082829Z
LAST-MODIFIED:20260304T115542Z
UID:14515-1772832600-1772832600@xwra.gr
SUMMARY:Συναυλία με τα Kadinelia
DESCRIPTION:Από την παράδοση της Ελλάδας σε ολόκληρο τον κόσμο. Αυτό το μουσικό ταξίδι προσφέρουν οι Kadinelia\, το world acoustic ντουέτο του Θανάση Ζήκα και της Εύης Σεϊτανίδου. Ένα ταξίδι στο οποίο τα διαχρονικά ακούσματα της χώρας μας αποκτούν νέο χαρακτήρα. \n \nΟι Kadinelia επιστρέφουν στη σκηνή για μια ανοιξιάτικη γιορτινή περιοδεία με αφορμή την κυκλοφορία του καινούριου τους δίσκου\n\nΜε δύο ακουστικές κιθάρες\, κρουστά\, τσαμπούνα\, λύρα και beatbox\, οι Kadinelia μπλέκουν διαφορετικά είδη μουσικής δημιουργώντας ζωντανά έναν κόσμο βαθιά ριζωμένο στην παράδοση και ταυτόχρονα απολύτως φρέσκο.\n\nΟ δίσκος «Είμαι ένα σπίτι» λειτουργεί ως σημείο αναφοράς για την περιοδεία\, φέρνοντας στο προσκήνιο μια νέα τολμηρή ηχητική πρόταση\, με στοιχεία τόσο φολκ όσο και avant garde\, εκστατικούς αυτοσχεδιασμούς και ένα καθαρά βορειοελλαδίτικο χρώμα.\n\nΌλα αυτά εναρμονισμένα σε ένα πρόγραμμα με τραγούδια που ήδη έχουν αγαπηθεί\, διασκευές από την ελληνική παράδοση και όχι μόνο.\n  \nΤιμές εισιτηρίων: \nΠροπώληση: 12 € \nΤαμείο: 15 € \n  \nΠληροφορίες / κρατήσεις: 22310 51075 / 6936994980 \n  \nΔείτε βίντεο από προηγούμενες εμφανίσεις τους στον Τόπο Τεχνών “Χώρα”: \nFor privacy reasons YouTube needs your permission to be loaded.I Accept\n  \nFor privacy reasons YouTube needs your permission to be loaded.I Accept\n 
URL:https://xwra.gr/event/synavlia-me-ta-kadinelia/
LOCATION:Τόπος Τεχνών «Χώρα»\, Λελέικα Υπάτης\, Υπάτη\, Φθιώτιδας\, 35100\, Ελλάδα
CATEGORIES:Συναυλία
ATTACH;FMTTYPE=image/jpeg:https://xwra.gr/wp-content/uploads/2024/09/kadinelia_1.jpg
END:VEVENT
BEGIN:VEVENT
DTSTART;TZID=Europe/Athens:20260314T213000
DTEND;TZID=Europe/Athens:20260314T213000
DTSTAMP:20260419T180807
CREATED:20260215T190803Z
LAST-MODIFIED:20260221T084805Z
UID:14494-1773523800-1773523800@xwra.gr
SUMMARY:Κωσταντής Πιστιόλης - Loop Station
DESCRIPTION:Ο Κωσταντής Πιστιόλης έρχεται στον Τόπο Τεχνών “Χώρα”\, στα Λελέικα Υπάτης\, για να μας παρουσιάσει ένα ιδιαίτερο μουσικό πρόγραμμα\, όπου η παράδοση συναντά τη σύγχρονη έκφραση μέσω της λουπας (loop station). \n \nΜόνος επί σκηνής χειρίζεται μια μεγάλη γκάμα πνευστών\, εγχόρδων και κρουστών οργάνων\, καθώς και τα φωνητικά\, αντλώντας έμπνευση από παραδοσιακά ακούσματα της Μικράς Ασίας\, της Θράκης και της Ηπείρου. \n  \nΤιμές εισιτηρίων\nΠροπώληση: 13 ευρώ\nΤαμείο: 15 ευρώ\n\nΠληροφορίες στα 2231051075 και 6936994980
URL:https://xwra.gr/event/kostantis-pistiolis-loop-station/
LOCATION:Τόπος Τεχνών «Χώρα»\, Λελέικα Υπάτης\, Υπάτη\, Φθιώτιδας\, 35100\, Ελλάδα
CATEGORIES:Συναυλία
ATTACH;FMTTYPE=image/jpeg:https://xwra.gr/wp-content/uploads/2026/02/1000028155.jpg
END:VEVENT
BEGIN:VEVENT
DTSTART;TZID=Europe/Athens:20260321T213000
DTEND;TZID=Europe/Athens:20260321T213000
DTSTAMP:20260419T180807
CREATED:20260218T121030Z
LAST-MODIFIED:20260321T071254Z
UID:14497-1774128600-1774128600@xwra.gr
SUMMARY:ΑΝΑΒΑΛΛΕΤΑΙ - Στέλιος Τσουκιάς LIVE - Παρουσίαση δίσκου "Στη Δύση"
DESCRIPTION:  \nΗ συναυλία – παρουσίαση δίσκου του Σπύρου Τσουκιά ΑΝΑΒΑΛΛΕΤΑΙ για το καλοκαίρι. Σύντομα θα ανακοινωθεί η νέα ημερομηνία. \n \n\n\n\n«Στη Δύση δεν βρήκα απαντήσεις\nΒρήκα τον εαυτό μου όπως είναι»\n\n  \n\nΟ Στέλιος Τσουκιάς επιστρέφει στον δρόμο για ένα ανοιξιάτικο tour\, μαζί με τη νέα\, εκρηκτική μπάντα του\, για να παρουσιάσει τον καινούριο του δίσκο που κυκλοφορεί στα τέλη του Φεβρουαρίου. Το Σάββατο 21 Μαρτίου\, στον Τόπο Τεχνών Χώρα\, στα Λελέικα Υπάτης\, ο Στέλιος υπόσχεται ένα αξέχαστο live. Έξι σταθμοί στη φετινή του διαδρομή\, τέσσερεις εξαιρετικοί μουσικοί\, εννέα φρέσκα κομμάτια\, στη μουσική κατεύθυνση που είναι πλέον η ταυτότητα του Στέλιου\, και ένα αυθεντικό ροκ πρόγραμμα που υπόσχεται να ξεσηκώσει όποιον το ζήσει. \nΈνταση – με δυναμική ενορχήστρωση\, ηλεκτρική ατμόσφαιρα\, συναισθηματικά φορτισμένα κομμάτια και παλμό\, ο Στέλιος ετοιμάζεται για το πιο σίγουρο και ελεύθερο μουσικό ταξίδι του ως τώρα. Με τα παλαιότερα κομμάτια του αλλά και τον νέο του δίσκο “Στη Δύση” στις αποσκευές του\, τα χαμόγελα\, τις φωνές\, τον παλμό του κόσμου που ένιωσε στην περσινή περιοδεία\, είναι έτοιμος να ανέβει στη σκηνή και να τα “δώσει” όλα πίσω στον κόσμο\, σε όσους τον στήριξαν από την αρχή\, αλλά και στο νέο κοινό που τον ανακαλύπτει τώρα. \nΣυνύπαρξη — τόσο ο επερχόμενος δίσκος του\, όσο και τα live του αλλά και ο ίδιος του ο εαυτός\, συγκλίνουν γύρω από αυτή την έννοια. Τη συνύπαρξη τεσσάρων κορυφαίων μουσικών που φέρνουν τον ροκ ήχο στο σήμερα· τη συνάντηση με τον κόσμο\, που τον αναγεννά και τον εμπνέει· την ταυτόχρονη παρουσία των διαφορετικών συναισθημάτων του· αλλά και την αντίφαση ανάμεσα στον μαθηματικό και τον μουσικό μέσα του. \nΜαζί του επί σκηνής: \nΛαμπρινή Γρηγοριάδου – Σταθερά δίπλα του εδώ και δυο χρόνια\, στην ηλεκτρική και την ακουστική κιθάρα. Υπογράφει επίσης τη μουσική\, την ενορχήστρωση και την παραγωγή του νέου δίσκου. \nΠάνος Γκίνης – Στη δεύτερη ηλεκτρική κιθάρα\, μια νέα προσθήκη στη μπάντα φέτος\, το βασικό μέλος των Θραξ Πανκc έρχεται να δώσει ένταση στο live. \nΙάσονας Οικονόμου – Το μπάσο της μπάντας του Στέλιου για χρόνια\, προσφέρει σταθερότητα και groove και στα φετινά live. \nΓιώργος Zilla Νικολαϊδης – Στα τύμπανα\, για πρώτη φορά φέτος στη μπάντα\, έρχεται με τη δική του εκρηκτική παρουσία να δώσει ρυθμό. \nΜια ζωντανή μουσική εμπειρία υψηλής έντασης\, όπου το κοινό\, ο Στέλιος Τσουκιάς και οι μουσικοί που τον συνοδεύουν\, θα γίνουν ένα. Μη το χάσεις! \n\n  \nΕισιτήρια:\nΓενική είσοδος: 10 ευρώ\nΠληροφορίες / κρατήσεις: 2231051075 και 6936994980
URL:https://xwra.gr/event/stelios-tsoukias-live-parousiasi-diskou-sti-dysi/
LOCATION:Τόπος Τεχνών «Χώρα»\, Λελέικα Υπάτης\, Υπάτη\, Φθιώτιδας\, 35100\, Ελλάδα
CATEGORIES:Συναυλία
ATTACH;FMTTYPE=image/jpeg:https://xwra.gr/wp-content/uploads/2026/02/stelios-tsoukias.jpg
END:VEVENT
BEGIN:VEVENT
DTSTART;TZID=Europe/Athens:20260325T140000
DTEND;TZID=Europe/Athens:20260325T140000
DTSTAMP:20260419T180807
CREATED:20260221T085220Z
LAST-MODIFIED:20260321T191011Z
UID:14521-1774447200-1774447200@xwra.gr
SUMMARY:25η Μαρτίου: Μεσημεριανό γλέντι με τα Τρυγόνια
DESCRIPTION:Σαν να φυσάει απ’ τα βουνά και να κατεβαίνουν μελωδίες\, έτσι έρχονται τα Τρυγόνια\, μια μπάντα που φέρνει ήχους από το παρελθόν σε μια γιορτή για το παρόν.\n\n \n\nΚλαρίνο\, βιολί\, λαούτο και κρουστά μπλέκονται σε ένα γλέντι όπου όλοι τραγουδούν και όλοι χορεύουν. Έχουν ιδιαίτερη αγάπη στους σκοπούς της Ηπείρου αλλά ο ήχος τους ταξιδεύει από την Μακεδονία και την Θράκη ως τα νησιά του Αιγαίου. Τα Τρυγόνια καλούν τον κόσμο να πιαστεί χέρι-χέρι σε κύκλο\, σε ένα χορό με φτερούγισμα και ρυθμό.\n\nΤα Τρυγόνια είναι οι:\nΔάφνη Παπαστρατή – κλαρίνο\nΘάνος Γεωργόπουλος – λαούτο\, νταούλι\, βιολί\nΙάσονας Ρήγας – βιολί\nΣταμάτης Μπενέτας – ντέφι\, τουμπερλέκι\, κλαρίνο\n\nΕισιτήρια:\nΓενική είσοδος 5 €\n\n\nΠληροφορίες / κρατήσεις: 22310 51075 / 6936994980
URL:https://xwra.gr/event/25i-martiou-mesimeriano-glenti-me-ta-trygonia/
LOCATION:Τόπος Τεχνών «Χώρα»\, Λελέικα Υπάτης\, Υπάτη\, Φθιώτιδας\, 35100\, Ελλάδα
CATEGORIES:Συναυλία
ATTACH;FMTTYPE=image/jpeg:https://xwra.gr/wp-content/uploads/2026/02/trygonia.jpg
END:VEVENT
END:VCALENDAR