BEGIN:VCALENDAR
VERSION:2.0
PRODID:-//Τόπος Τεχνών Χώρα - ECPv6.15.20//NONSGML v1.0//EN
CALSCALE:GREGORIAN
METHOD:PUBLISH
X-WR-CALNAME:Τόπος Τεχνών Χώρα
X-ORIGINAL-URL:https://xwra.gr
X-WR-CALDESC:Events for Τόπος Τεχνών Χώρα
REFRESH-INTERVAL;VALUE=DURATION:PT1H
X-Robots-Tag:noindex
X-PUBLISHED-TTL:PT1H
BEGIN:VTIMEZONE
TZID:Europe/Athens
BEGIN:DAYLIGHT
TZOFFSETFROM:+0200
TZOFFSETTO:+0300
TZNAME:EEST
DTSTART:20150329T010000
END:DAYLIGHT
BEGIN:STANDARD
TZOFFSETFROM:+0300
TZOFFSETTO:+0200
TZNAME:EET
DTSTART:20151025T010000
END:STANDARD
BEGIN:DAYLIGHT
TZOFFSETFROM:+0200
TZOFFSETTO:+0300
TZNAME:EEST
DTSTART:20160327T010000
END:DAYLIGHT
BEGIN:STANDARD
TZOFFSETFROM:+0300
TZOFFSETTO:+0200
TZNAME:EET
DTSTART:20161030T010000
END:STANDARD
BEGIN:DAYLIGHT
TZOFFSETFROM:+0200
TZOFFSETTO:+0300
TZNAME:EEST
DTSTART:20170326T010000
END:DAYLIGHT
BEGIN:STANDARD
TZOFFSETFROM:+0300
TZOFFSETTO:+0200
TZNAME:EET
DTSTART:20171029T010000
END:STANDARD
END:VTIMEZONE
BEGIN:VEVENT
DTSTART;TZID=Europe/Athens:20160319T213000
DTEND;TZID=Europe/Athens:20160319T213000
DTSTAMP:20260425T055247
CREATED:20160202T090547Z
LAST-MODIFIED:20160315T074500Z
UID:2737-1458423000-1458423000@xwra.gr
SUMMARY:Δημήτρης Ζερβουδάκης Live
DESCRIPTION:Ο Θεσσαλονικιός τραγουδοποιός\, έρχεται για μια ακόμη συνάντηση με το αγαπημένο του κοινό.\nΚουβαλώντας στις αποσκευές του τις μουσικές και τα στιχάκια του\, την αγάπη του για αυτό που κάνει\, μα και την δύναμη μιας σταθερής παρέας\, έρχεται να μας «ταξιδέψει» για μια ακόμη φορά κατά τον προσφιλή του τρόπο. \nΓια ένα βράδυ\, το Σάββατο 19 Μαρτίου\, θα ζωντανέψουν οι μελωδίες\, τα λόγια\, τα ποιήματα και η «επικοινωνία» με τραγούδια που αγαπήθηκαν μες τα χρόνια. Η Ανατολή συναντά την Δύση\, με έναν μοναδικό τρόπο που ο Δημήτρης γνωρίζει καλά. Έναν τρόπο που υπηρετεί ακόμη καλύτερα με την φωνή του.\nΤο συγκρότημα κινείται και ελίσσεται με άνεση\, από τον απόλυτα ακουστικό\, στον ηλεκτρικό ήχο\, διεγείροντας ιδιαίτερα τα συναισθήματα. Αφετηρία και προορισμός η Ελλάδα. Γειτονιά μας ο Κόσμος! \n \nΠαράλληλα με τις συναυλίες σε όλη την Ελλάδα\, κυκλοφόρησε και η νέα δισκογραφική πρόταση του Δημήτρη\, με γενικό τίτλο « Ζωής Παιχνίδια».Μια ανεξάρτητη παραγωγή από τις εκδόσεις ΚΥΜΑ. Αριθμημένα συλλεκτικά τα αντίτυπα και της 2ης έκδοσης της νέας δουλειάς του τραγουδοποιού\, θα τα βρείτε στην πόρτα της «Χώρας» την μέρα της συναυλίας\, μιας και δεν διατίθενται στο εμπόριο! \n“Ζωής Παιχνίδια” λοιπόν στη μοναδική αυτή συναυλία στον Τόπο Τεχνών «Χώρα» \n  \nΠαίζουν οι μουσικοί: \nΠαναγιώτης Κουτσούρας-τρίχορδο μπουζούκι\nΘάνος Κολοκυθάς-μπάσο\nΘανάσης Αρχανιώτης-τύμπανα\nΝίκος Παπαδόπουλος-κιθάρα\nΔημήτρης Οικονομίδης-πλήκτρα \nστον ήχο: Μάκης Δρακόπουλος \n\n\n \n\n\nFor privacy reasons YouTube needs your permission to be loaded.\nI Accept\n\n\n\n\n\nΤιμές εισιτηρίων:\nΠροπώληση: 13 €\nΤαμείο: 15 € \nΠΡΟΠΩΛΗΣΗ εισιτηρίων – κρατήσεις θέσεων: Τηλεφωνικά στο 2231051075 και 6936995142
URL:https://xwra.gr/event/%ce%b4%ce%b7%ce%bc%ce%ae%cf%84%cf%81%ce%b7%cf%82-%ce%b6%ce%b5%cf%81%ce%b2%ce%bf%cf%85%ce%b4%ce%ac%ce%ba%ce%b7%cf%82-live/
LOCATION:Φθιώτιδας
CATEGORIES:Συναυλία
ATTACH;FMTTYPE=image/jpeg:https://xwra.gr/wp-content/uploads/2016/02/zervoudakis.jpg
END:VEVENT
BEGIN:VEVENT
DTSTART;TZID=Europe/Athens:20160326T213000
DTEND;TZID=Europe/Athens:20160326T213000
DTSTAMP:20260425T055247
CREATED:20160202T085609Z
LAST-MODIFIED:20160321T131815Z
UID:2733-1459027800-1459027800@xwra.gr
SUMMARY:SMYRNA live
DESCRIPTION:Μια ορχήστρα ελληνικής παραδοσιακής μουσικής αμιγώς γυναικεία. \nΜε τη νεανική τους διάθεση οι 6 νέες κοπέλες\, φέρνουν τη παραδοσιακή μουσική στο προσκήνιο\, δίνοντάς της το χώρο που της αρμόζει στα μουσικά δρώμενα.\nΜε σκοπούς και τραγούδια από τη Μικρά Ασία\, την Καππαδοκία\, την Κωνσταντινούπολη\, τη Θράκη\, την Μακεδονία\, την Ήπειρο\, το Αιγαίο αλλά και Σμυρνιών συνθετών\, θέλγουν το ακροατήριο και το παρασύρουν να γλεντήσει σα μια μεγάλη παρέα και να τραγουδήσει\, από τον «Αρτεμώνα» της Σίφνου\, ως την «Τρυγώνα» και το «Μη με κοιτάς στα μάτια» της Ηπείρου\, απ’ τα πολυφωνικά της Θράκης ως τον «Κόνιαλη» της Καππαδοκίας και τη «Ρουμπαλιά γαρουφαλλιά» από τη Μ.Ασία. \n  \n \n\n\nFor privacy reasons YouTube needs your permission to be loaded.\nI Accept\n\n\nΗ ορχήστρα «Smyrna» συστάθηκε το  2010. \nΈχοντας αφιερώσει χρόνο στην έρευνα\, η ομάδα ταξιδεύει\, στην ελληνική μουσική κάνοντας στάσεις σε διάφορες περιοχές αναδεικνύοντας ποικίλα ηχοχρώματα\, σε δημιουργίες της προφορικής παράδοσης\, και έργα Σμυρνιών συνθετών. \nΜε τη νεανική τους διάθεση φέρνουν την μουσική αυτή στο προσκήνιο\, δίνοντάς της το χώρο που της αρμόζει στα μουσικά δρώμενα\, ενώ παράλληλα προσεγγίζουν το υλικό που επιλέγουν να παρουσιάσουν με σεβασμό στις πρωτότυπες εκτελέσεις. \nΠροσπαθούν μ΄αυτό τον τρόπο ν’ ανακαλύψουν τους συνδετικούς κρίκους που δίνουν συνάφεια και συνέχεια γοητευμένες από την έκλυση ενέργειας που ξεχύνεται μέσα από αυτή τη μουσική. \nTo Μάιο του 2012 σε δική τους παραγωγή \,κυκλοφόρησαν το πρώτο τους άλμπουμ το οποίο είναι διαθέσιμο στο youtube. \nΤον Ιούλιο του 2014 κυκλοφόρησε η δεύτερη δισκογραφική τους δουλειά με τίτλο «Θα τραγουδήσω αγαληνά» από την εταιρεία Final Touch σε διανομή της Cobalt και είναι διαθέσιμη σε όλα τα δισκοπωλεία. Συμμετέχει η Σοφία Μάνου. \n  \nΤιμές εισιτηρίων: \nΠροπώληση: 10 €\nΤαμείο: 13 € \n  \nΠΡΟΠΩΛΗΣΗ εισιτηρίων – κρατήσεις θέσεων: Τηλεφωνικά στο \n2231051075 και 6936994980
URL:https://xwra.gr/event/%cf%83%ce%bc%cf%8d%cf%81%ce%bd%ce%b1-live/
LOCATION:Φθιώτιδας
CATEGORIES:Συναυλία
ATTACH;FMTTYPE=image/jpeg:https://xwra.gr/wp-content/uploads/2016/02/smyrna-foto3.jpg
END:VEVENT
END:VCALENDAR