BEGIN:VCALENDAR
VERSION:2.0
PRODID:-//Τόπος Τεχνών Χώρα - ECPv6.15.20//NONSGML v1.0//EN
CALSCALE:GREGORIAN
METHOD:PUBLISH
X-WR-CALNAME:Τόπος Τεχνών Χώρα
X-ORIGINAL-URL:https://xwra.gr
X-WR-CALDESC:Events for Τόπος Τεχνών Χώρα
REFRESH-INTERVAL;VALUE=DURATION:PT1H
X-Robots-Tag:noindex
X-PUBLISHED-TTL:PT1H
BEGIN:VTIMEZONE
TZID:Europe/Moscow
BEGIN:STANDARD
TZOFFSETFROM:+0300
TZOFFSETTO:+0300
TZNAME:MSK
DTSTART:20150101T000000
END:STANDARD
END:VTIMEZONE
BEGIN:VEVENT
DTSTART;TZID=Europe/Moscow:20161203T223000
DTEND;TZID=Europe/Moscow:20161203T223000
DTSTAMP:20260424T174929
CREATED:20161115T101207Z
LAST-MODIFIED:20161115T101453Z
UID:3747-1480804200-1480804200@xwra.gr
SUMMARY:O Μιχάλης Πολυχρονάκης και το συγκρότημά του LIVE
DESCRIPTION:Ο Μιχάλης Πολυχρονάκης και το συγκρότημά του\, μας φέρνουν ήχους από κάθε γωνιά της Κρήτης\, σε μια μουσική παράσταση όπου ακολουθεί τη διαδρομή της Κρητικής μουσικής στο χρόνο. \nΑπό το ριζίτικο τραγούδι έως τους «Πρωτομάστορες»\, με συνθέσεις τόσο του Μιχάλη Πολυχρονάκη όσο και σύγχρονων αξιόλογων Κρητών καλλιτεχνών. \nΗ λύρα και το λαγούτο συνδυάζονται αρμονικά\, σε διασκευές που μεταφέρουν τα έντονα συναισθήματα\, την ένταση και τον παλμό της Κρητικής μουσικής. \n  \nΛυρα – τραγούδι : Μιχάλης Πολυχρονάκης\nΛαούτο – τραγούδι : Παπαδάκης Γιώργος\nΛαούτο : Φραγκιουδάκης Λευτέρης
URL:https://xwra.gr/event/%ce%bc%ce%b9%cf%87%ce%ac%ce%bb%ce%b7%cf%82-%cf%80%ce%bf%ce%bb%cf%85%cf%87%cf%81%ce%bf%ce%bd%ce%ac%ce%ba%ce%b7%cf%82/
LOCATION:Φθιώτιδας
CATEGORIES:Συναυλία
ATTACH;FMTTYPE=image/jpeg:https://xwra.gr/wp-content/uploads/2016/11/Χώρα-είσοδος-3-12-2016-copy.jpg
END:VEVENT
END:VCALENDAR