BEGIN:VCALENDAR
VERSION:2.0
PRODID:-//Τόπος Τεχνών Χώρα - ECPv6.15.20//NONSGML v1.0//EN
CALSCALE:GREGORIAN
METHOD:PUBLISH
X-WR-CALNAME:Τόπος Τεχνών Χώρα
X-ORIGINAL-URL:https://xwra.gr
X-WR-CALDESC:Events for Τόπος Τεχνών Χώρα
REFRESH-INTERVAL;VALUE=DURATION:PT1H
X-Robots-Tag:noindex
X-PUBLISHED-TTL:PT1H
BEGIN:VTIMEZONE
TZID:Europe/Moscow
BEGIN:STANDARD
TZOFFSETFROM:+0300
TZOFFSETTO:+0300
TZNAME:MSK
DTSTART:20160101T000000
END:STANDARD
END:VTIMEZONE
BEGIN:VEVENT
DTSTART;TZID=Europe/Moscow:20170120T223000
DTEND;TZID=Europe/Moscow:20170120T223000
DTSTAMP:20260424T155342
CREATED:20170113T140018Z
LAST-MODIFIED:20170115T120525Z
UID:3806-1484951400-1484951400@xwra.gr
SUMMARY:ΕΛΕΝΗ ΤΣΑΛΙΓΟΠΟΥΛΟΥ  & Boğaz Musique LIVE
DESCRIPTION:Η Ελένη Τσαλιγοπούλου\, ύστερα από μία σειρά πολύ επιτυχημένων εμφανίσεων το καλοκαίρι που πέρασε και σχεδόν ταυτόχρονα με μία σειρά νέων παραστάσεων στην Αθήνα\, ταξιδεύει και αυτόν τοv χειμώνα σε όλη την Ελλάδα. Και μαζί με τους ΒoğazΜusique μας προσκαλούν ξανά σε μία σειρά συναρπαστικών συναυλιών\, δημιουργώντας ένα νέο\, εναλλακτικό τρόπο ουσιαστικής διασκέδασης και ψυχαγωγίας. \nΜε την αυθεντική ατμόσφαιρα και τη μαγεία ενός post μικρασιάτικου πάλκου\, προσαρμοσμένου στα ηχητικά δεδομένα και τις προκλήσεις της νέας εποχής\, η Ελένη Τσαλιγοπούλου και οι ΒogazΜusique στήνουν μία υπέροχη μουσική γιορτή\, γεμάτη από τραγούδια που όλοι έχουμε αγαπήσει\, παρουσιασμένα με αριστοτεχνικά ανανεωμένο ήχο αλλά και καθηλωτικές ερμηνείες. Τραγούδια από την παράδοση\, το ρεμπέτικο\, το λαϊκό\, τραγούδια μεγάλων δημιουργών\, σύγχρονα και κλασσικά\, αλλά και ολοκαίνουργια τραγούδια από το νέο album της Ελένης και των Βoğaz που θα παρουσιαστούν για πρώτη φορά. \nΚαι μαζί υπόσχονται για μία ακόμη φορά πως κάθε live τους θα είναι μία λυτρωτική μουσική  εμπειρία\, που θα καθηλώσει το κοινό\, αφήνοντας τις καλύτερες εντυπώσεις! \n  \nΟι Βoğaz Μusique είναι οι: \nΣπύρος Χατζηκωνσταντίνου – κιθάρες\, μπαγλαμά \nΑριστείδης Χατζησταύρου – κιθάρες \nΑποστόλης Τσαρδάκας – κανονάκι\, τζουρά\, μπαγλαμά \nΧάρης Κελλάρης – μπάσο \nΑλέκος Σπανίδης – τύμπανα \nΑργύρης Διαμαντής – κρουστά \n  \nΤάκης Σπυρόπουλος – ηχοληψία \nΝεκταρία Εμμανουηλίδου – φωτισμοί \nΤάσος Βρεττός – φωτογραφίες \nArtwork: Κωνσταντίνος Γεωργαντάς \n  \nΤιμές εισιτηρίων: \nΠροπώληση: 13 €\nΠόρτα: 15 € \nΤηλέφωνο κρατήσεων:  2231051075 \n  \nFor privacy reasons YouTube needs your permission to be loaded.I Accept\nFor privacy reasons YouTube needs your permission to be loaded.I Accept\nOfficialLink: www.facebook.com/eleni.tsaligopoulou
URL:https://xwra.gr/event/%ce%b5%ce%bb%ce%b5%ce%bd%ce%b7-%cf%84%cf%83%ce%b1%ce%bb%ce%b9%ce%b3%ce%bf%cf%80%ce%bf%cf%85%ce%bb%ce%bf%cf%85-bogaz-musique-live/
LOCATION:Φθιώτιδας
CATEGORIES:Συναυλία
ATTACH;FMTTYPE=image/jpeg:https://xwra.gr/wp-content/uploads/2017/01/tsaligopoulou.jpg
END:VEVENT
END:VCALENDAR