BEGIN:VCALENDAR
VERSION:2.0
PRODID:-//Τόπος Τεχνών Χώρα - ECPv6.15.20//NONSGML v1.0//EN
CALSCALE:GREGORIAN
METHOD:PUBLISH
X-ORIGINAL-URL:https://xwra.gr
X-WR-CALDESC:Events for Τόπος Τεχνών Χώρα
REFRESH-INTERVAL;VALUE=DURATION:PT1H
X-Robots-Tag:noindex
X-PUBLISHED-TTL:PT1H
BEGIN:VTIMEZONE
TZID:Europe/Moscow
BEGIN:STANDARD
TZOFFSETFROM:+0300
TZOFFSETTO:+0300
TZNAME:MSK
DTSTART:20170101T000000
END:STANDARD
END:VTIMEZONE
BEGIN:VEVENT
DTSTART;TZID=Europe/Moscow:20181207T220000
DTEND;TZID=Europe/Moscow:20181207T220000
DTSTAMP:20260420T231516
CREATED:20181207T105010Z
LAST-MODIFIED:20181207T105010Z
UID:6431-1544220000-1544220000@xwra.gr
SUMMARY:Παύλος Παυλίδης TRIO
DESCRIPTION:O Παύλος Παυλίδης έρχεται στη «Χώρα» να μας παρουσιάσει ένα  live πέρα από τα καθιερωμένα. \n  \nΈνα project δουλεμένο τον τελευταίο καιρό μαζί με τον Ορέστη Μπενέκα στα πλήκτρα και τις λούπες και τον Αλέκο Βουλγαράκη στην ηλεκτρική κιθάρα. \nΜια άλλη προσέγγιση στα τραγούδια του Παύλου από όλη τη μουσική του πορεία και με ένα πρόγραμμα εμπλουτισμένο με αρκετά κομμάτια του που δεν έχουμε συχνά την ευκαιρία να ακούσουμε στις συναυλίες του\, καθώς η επιλογή τους ταιριάζει απόλυτα με την ιδιαιτερότητα του συγκεκριμένου project. \nΑξέχαστοι στίχοι και μελωδίες τόσο από την εποχή των Ξύλινων Σπαθιών όσο και από τη μετέπειτα δισκογραφία του\, φτάνοντας έως και τον τελευταίο δίσκο που κυκλοφόρησε τον Απρίλιο του 2016 με τον τίτλο «Μια Πυρκαγιά σ’ ένα σπιρτόκουτο». \nΠαύλος Παυλίδης: Φωνή\, Ακουστική κιθάρα\nΟρέστης Μπενέκας: Πλήκτρα\, Φωνητικά\, Loops\nΑλέκος Βουλγαράκης: Ηλεκτρική κιθάρα \nΤιμές εισιτηρίων:\nΠροπώληση: 10€\nΠόρτα: 13€ \nΠροπώληση – κρατήσεις τηλεφωνικά στο 2231051075
URL:https://xwra.gr/event/%cf%80%ce%b1%cf%8d%ce%bb%ce%bf%cf%82-%cf%80%ce%b1%cf%85%ce%bb%ce%af%ce%b4%ce%b7%cf%82-trio/
LOCATION:Τόπος Τεχνών «Χώρα»\, Λελέικα Υπάτης\, Υπάτη\, Φθιώτιδας\, 35100\, Ελλάδα
CATEGORIES:Συναυλία
ATTACH;FMTTYPE=image/jpeg:https://xwra.gr/wp-content/uploads/2018/12/pavlidis_fb_cover.jpg
END:VEVENT
END:VCALENDAR